BEGIN:VCALENDAR
VERSION:2.0
PRODID:-//eventon.com NONSGML v1.0//EN
CALSCALE:GREGORIAN
METHOD:PUBLISH
BEGIN:VEVENT
UID:69ea40a95659b
DTSTAMP:20260423T155417Z
DTSTART:20220716T070000Z
DTEND:20220716T083000Z
LOCATION:
SUMMARY:Team Meeting
DESCRIPTION:Willingness Team meets fortnightly for Case Reviews that are di
 scussed through a multi-disciplinary approach as well as In- House Training
 \nhttps://willingness.com.mt/events/team-meeting-13/
URL:https://willingness.com.mt/events/team-meeting-13/
END:VEVENT
END:VCALENDAR