BEGIN:VCALENDAR
VERSION:2.0
PRODID:-//eventon.com NONSGML v1.0//EN
CALSCALE:GREGORIAN
METHOD:PUBLISH
BEGIN:VEVENT
UID:69ea41ac53d51
DTSTAMP:20260423T155836Z
DTSTART:20220312T080000Z
DTEND:20220312T093000Z
LOCATION:
SUMMARY:Team Meeting
DESCRIPTION:Willingness Team meets fortnightly for Case Reviews that are di
 scussed through a multi-disciplinary approach as well as In- House Training
 \nhttps://willingness.com.mt/events/team-meeting-22/
URL:https://willingness.com.mt/events/team-meeting-22/
END:VEVENT
END:VCALENDAR